BEGIN:VCALENDAR
VERSION:2.0
PRODID:-//Jet Shades, LLC - ECPv6.15.13//NONSGML v1.0//EN
CALSCALE:GREGORIAN
METHOD:PUBLISH
X-WR-CALNAME:Jet Shades, LLC
X-ORIGINAL-URL:https://jet-shades.com
X-WR-CALDESC:Events for Jet Shades, LLC
REFRESH-INTERVAL;VALUE=DURATION:PT1H
X-Robots-Tag:noindex
X-PUBLISHED-TTL:PT1H
BEGIN:VTIMEZONE
TZID:America/New_York
BEGIN:DAYLIGHT
TZOFFSETFROM:-0500
TZOFFSETTO:-0400
TZNAME:EDT
DTSTART:20170312T070000
END:DAYLIGHT
BEGIN:STANDARD
TZOFFSETFROM:-0400
TZOFFSETTO:-0500
TZNAME:EST
DTSTART:20171105T060000
END:STANDARD
BEGIN:DAYLIGHT
TZOFFSETFROM:-0500
TZOFFSETTO:-0400
TZNAME:EDT
DTSTART:20180311T070000
END:DAYLIGHT
BEGIN:STANDARD
TZOFFSETFROM:-0400
TZOFFSETTO:-0500
TZNAME:EST
DTSTART:20181104T060000
END:STANDARD
BEGIN:DAYLIGHT
TZOFFSETFROM:-0500
TZOFFSETTO:-0400
TZNAME:EDT
DTSTART:20190310T070000
END:DAYLIGHT
BEGIN:STANDARD
TZOFFSETFROM:-0400
TZOFFSETTO:-0500
TZNAME:EST
DTSTART:20191103T060000
END:STANDARD
BEGIN:DAYLIGHT
TZOFFSETFROM:-0500
TZOFFSETTO:-0400
TZNAME:EDT
DTSTART:20200308T070000
END:DAYLIGHT
BEGIN:STANDARD
TZOFFSETFROM:-0400
TZOFFSETTO:-0500
TZNAME:EST
DTSTART:20201101T060000
END:STANDARD
END:VTIMEZONE
BEGIN:VEVENT
DTSTART;VALUE=DATE:20190402
DTEND;VALUE=DATE:20190408
DTSTAMP:20260425T194213
CREATED:20181217T145952Z
LAST-MODIFIED:20190313T111554Z
UID:3084-1554163200-1554681599@jet-shades.com
SUMMARY:Sun 'n Fun International Fly-In & Expo
DESCRIPTION:Get Custom-Made Jet Shades from our Authorized Dealers during Sun ‘n Fun and have a cool\, comfortable flight home!\nMany Aircraft such as Barons\, Bonanzas\, Piper\, Cessna\, and other aircraft that are not available as a stock Jet Shade and must be custom fitted to your aircraft. We have teamed up with our Dealer in Lakeland to have them fabricate and custom fit Jet Shades to just about any aircraft and with special offers! \n\nEXPO DEAL\nCustom-Made Jet Shades + Installation During Sun ‘n Fun\nFixed Wing Aviation on the field in Lakeland\, Florida will provide flat rate pricing on Jet Shades installation as well as up to $500 off of Premium Jet Shades! To get an idea of the saving and value\, it cost about $3\,300 – $3\,500 to outfit Baron or Bonanza with Tinted Acrylic inserts\, and these do not protect the pilot. For a complete set of Jet Shades installed\, including the cockpit\, should be installed for less than $2\,200! Upgrade to Premium for an additional $200 (Regular upgrade price $700). See Our Specs on Standard High visibility Jet Shades and premium Jet Shades here. \nYou will need to make an appointment to take advantage of this offer.  Please call David at Fixed Wing Aviation (Lakeland) | Ph: 813-621-7476 to make an appointment today as slots are filling up. \nOther Jet Shades dealers in Florida are: \n\nBaker Aviation – KEVB | Ph: 386-837-4073 | Contact Curtis Boulware for more information.\nSun Aviation – KVBR – Vero Beach | Ph: 772-562-9257\nSarasota Avionics – KTPF – Tampa | Ph: 941-484-9410 | Contact Nicole\n\nCheck out these Custom Jet Shades installations: \nBonanza A36 with Custom Fit Jet Shades\nBonanza B55 with Custom Fit Jet Shades\n\n\nMore Expo deals coming soon! Please check back. \n\nVisit the Jet Shades team at Booths D48 & 49 during the expo. Learn how to get cool comfortable flights with solar protection in the cockpit with Jet Shades! We will have live demonstrations on how Jet Shades work and are happy to answer any of your questions! \n\n High Visibility and Premium Jet Shades Comparison \n\n                \n                \n                            \n                            \n                            \n                    \n            \n    \n    \n    \n\n\n\n 
URL:https://jet-shades.com/event/sun-n-fun-international-fly-in-expo/
ATTACH;FMTTYPE=image/png:https://jet-shades.com/wp-content/uploads/2019/03/sun-n-fun-banner-logo.png
END:VEVENT
BEGIN:VEVENT
DTSTART;VALUE=DATE:20190206
DTEND;VALUE=DATE:20190207
DTSTAMP:20260425T194213
CREATED:20181210T143245Z
LAST-MODIFIED:20181210T143245Z
UID:2979-1549411200-1549497599@jet-shades.com
SUMMARY:2019 NBAA West Palm Beach Regional Forum
DESCRIPTION:Join the Jet Shades team at 2019 NBAA West Palm Beach Regional Forum! \nWe will be at Booth #426. \nView our booth on the floor plan. \nRegister here.
URL:https://jet-shades.com/event/2019-nbaa-west-palm-beach-regional-forum/
ATTACH;FMTTYPE=image/jpeg:https://jet-shades.com/wp-content/uploads/2018/12/nbaa-palm-beach.jpeg
END:VEVENT
BEGIN:VEVENT
DTSTART;VALUE=DATE:20181024
DTEND;VALUE=DATE:20181029
DTSTAMP:20260425T194213
CREATED:20181010T141913Z
LAST-MODIFIED:20181010T141913Z
UID:2467-1540339200-1540771199@jet-shades.com
SUMMARY:Citation Jet Pilots 2018 Convention
DESCRIPTION:
URL:https://jet-shades.com/event/citation-jet-pilots-2018-convention/
LOCATION:Hyatt Regency Hill Country Resort and Spa\, 9800 Hyatt Resort Dr\, San Antonio\, TX\, United States
ATTACH;FMTTYPE=image/png:https://jet-shades.com/wp-content/uploads/2018/10/cjp_logo.png
END:VEVENT
BEGIN:VEVENT
DTSTART;VALUE=DATE:20181016
DTEND;VALUE=DATE:20181019
DTSTAMP:20260425T194213
CREATED:20180705T173107Z
LAST-MODIFIED:20180706T133044Z
UID:2161-1539648000-1539907199@jet-shades.com
SUMMARY:NBAA Business Aviation Convention & Exhibition
DESCRIPTION:Join over 25\,000 industry professionals for the most important three days of business aviation. Ranked as the third largest trade show in the United States\, the NBAA Business Aviation Convention & Exhibition (NBAA-BACE) will be held Oct. 16–18\, 2018\, in Orlando\, Florida\, bringing together current and prospective aircraft owners\, manufacturers and customers into one meeting place to get critical work accomplished. \nCome visit us at Booth #3294. \nFloor plan \n 
URL:https://jet-shades.com/event/nbaa-business-aviation-convention-exhibition/
LOCATION:Orange County Convention Center\, 9800 International Drive\, Orlando\, FL\, 32819\, United States
ATTACH;FMTTYPE=image/jpeg:https://jet-shades.com/wp-content/uploads/2018/07/NBAA2018-large-promo.jpg
END:VEVENT
BEGIN:VEVENT
DTSTART;VALUE=DATE:20181011
DTEND;VALUE=DATE:20181013
DTSTAMP:20260425T194213
CREATED:20181010T141409Z
LAST-MODIFIED:20181010T142051Z
UID:2463-1539216000-1539388799@jet-shades.com
SUMMARY:Cirrus Owners & Pilots Association Migration\, Fly-In & Expo
DESCRIPTION:Each year\, hundreds of Cirrus aircraft fly in to attend COPA’s largest annual event & Migration! This year we’ll again be gathering in Las Vegas\, Nevada. Attendees can expect educational seminars\, an exhibitor’s trade show highlighting aviation products and services and socializing with other Cirrus pilots who share their passion for flying Cirrus aircraft! \nStop by our Booth #58 and meet the Jet Shades team. Special event discount available!
URL:https://jet-shades.com/event/cirrus-owners-pilots-association-migration-fly-in-expo/
LOCATION:Green Valley Resort & Spa\, 2300 Paseo Verde Pkwy\, henderson\, NV\, United States
ATTACH;FMTTYPE=image/png:https://jet-shades.com/wp-content/uploads/2018/10/copa.png
END:VEVENT
BEGIN:VEVENT
DTSTART;VALUE=DATE:20181003
DTEND;VALUE=DATE:20181007
DTSTAMP:20260425T194213
CREATED:20181010T140638Z
LAST-MODIFIED:20181010T140638Z
UID:2461-1538524800-1538870399@jet-shades.com
SUMMARY:2018 MMOPA Convention
DESCRIPTION:
URL:https://jet-shades.com/event/2018-mmopa-convention/
END:VEVENT
BEGIN:VEVENT
DTSTART;VALUE=DATE:20180912
DTEND;VALUE=DATE:20180916
DTSTAMP:20260425T194213
CREATED:20180907T161219Z
LAST-MODIFIED:20180907T230936Z
UID:2406-1536710400-1537055999@jet-shades.com
SUMMARY:TBM Owners & Pilots Association Convention
DESCRIPTION:Come and see the Jet Shades team at TBMOPA where we will be featuring our new product\, Jet Shades for Socata TBM 700/850/900 Series. Check out our TBMOPA Special Offer while you’re there!
URL:https://jet-shades.com/event/tbm-owners-pilots-association-convention/
LOCATION:The Greenbrier\, 300 W. Main Street\, Sulphur Springs\, WV\, 24986\, United States
ATTACH;FMTTYPE=image/png:https://jet-shades.com/wp-content/uploads/2018/09/tbmopa-logo.png
END:VEVENT
BEGIN:VEVENT
DTSTART;VALUE=DATE:20180723
DTEND;VALUE=DATE:20180730
DTSTAMP:20260425T194213
CREATED:20180705T172249Z
LAST-MODIFIED:20180705T180420Z
UID:2158-1532304000-1532908799@jet-shades.com
SUMMARY:EAA Airventure Osh Kosh
DESCRIPTION:Experience the largest annual gathering of aviation enthusiasts. From unique\, historic aircraft to world-class daily air shows\, you don’t want to miss the World’s Greatest Aviation Celebration. \nCome visit the Jet Shades team and see firsthand how Jet Shades tinted window panels and windshield visors protect pilots from UV\, heat\, and glare while flying. \nWe will be at Booth #2111 in Hangar B. \nFloor Plan
URL:https://jet-shades.com/event/eaa-airventure-osh-kosh/
ATTACH;FMTTYPE=image/png:https://jet-shades.com/wp-content/uploads/2018/07/eaa-airventure.png
END:VEVENT
END:VCALENDAR