BEGIN:VCALENDAR
VERSION:2.0
PRODID:-//Jet Shades, LLC - ECPv6.15.13//NONSGML v1.0//EN
CALSCALE:GREGORIAN
METHOD:PUBLISH
X-WR-CALNAME:Jet Shades, LLC
X-ORIGINAL-URL:https://jet-shades.com
X-WR-CALDESC:Events for Jet Shades, LLC
REFRESH-INTERVAL;VALUE=DURATION:PT1H
X-Robots-Tag:noindex
X-PUBLISHED-TTL:PT1H
BEGIN:VTIMEZONE
TZID:America/New_York
BEGIN:DAYLIGHT
TZOFFSETFROM:-0500
TZOFFSETTO:-0400
TZNAME:EDT
DTSTART:20250309T070000
END:DAYLIGHT
BEGIN:STANDARD
TZOFFSETFROM:-0400
TZOFFSETTO:-0500
TZNAME:EST
DTSTART:20251102T060000
END:STANDARD
BEGIN:DAYLIGHT
TZOFFSETFROM:-0500
TZOFFSETTO:-0400
TZNAME:EDT
DTSTART:20260308T070000
END:DAYLIGHT
BEGIN:STANDARD
TZOFFSETFROM:-0400
TZOFFSETTO:-0500
TZNAME:EST
DTSTART:20261101T060000
END:STANDARD
BEGIN:DAYLIGHT
TZOFFSETFROM:-0500
TZOFFSETTO:-0400
TZNAME:EDT
DTSTART:20270314T070000
END:DAYLIGHT
BEGIN:STANDARD
TZOFFSETFROM:-0400
TZOFFSETTO:-0500
TZNAME:EST
DTSTART:20271107T060000
END:STANDARD
END:VTIMEZONE
BEGIN:VEVENT
DTSTART;VALUE=DATE:20260720
DTEND;VALUE=DATE:20260727
DTSTAMP:20260425T211445
CREATED:20260304T202925Z
LAST-MODIFIED:20260304T205501Z
UID:35018-1784505600-1785110399@jet-shades.com
SUMMARY:EAA AirVenture Oshkosh 2026
DESCRIPTION:Visit Jet Shades at Booth 3056\nJet Shades will be exhibiting at EAA AirVenture Oshkosh\, the world’s largest aviation gathering\, held each summer at Wittman Regional Airport in Oshkosh\, Wisconsin.\nThousands of aircraft and aviation enthusiasts travel from around the world to attend this week-long celebration of aviation. If you’re planning to attend\, be sure to stop by the Jet Shades booth to see how our cockpit sun protection solutions help reduce heat\, glare\, and harmful UV exposure while flying. \nVisitors can also take advantage of one of Jet Shades’ biggest sales of the year\, making it the perfect time to upgrade your aircraft’s cockpit comfort and protection before the peak summer flying season. \n\nEvent Details\nEvent: EAA AirVenture OshkoshDates: July 20–26\, 2026 Location: Wittman Regional AirportOshkosh\, Wisconsin \nJet Shades Booth: 3056 \n\nWhat You’ll See at the Jet Shades Booth\nVisitors can: \n\nSee Jet Shades installed on aircraft windows\nLearn how Jet Shades reduce cockpit heat and glare\nDiscover how Jet Shades help protect pilots and passengers from UV exposure\nTake advantage of special show pricing during AirVenture\n\nOur team will be available throughout the week to answer questions and help pilots determine the best Jet Shades configuration for their aircraft. \n\nAbout EAA AirVenture Oshkosh\nHosted by the Experimental Aircraft Association\, AirVenture Oshkosh is the largest aviation gathering in the world. \nThe event features: \n\nThousands of aircraft on display\nDaily airshows and evening programs\nAviation workshops and forums\nHundreds of aviation exhibitors\nAircraft arrivals and departures throughout the week\n\n\nPlan Your Visit\nIf you’re attending AirVenture Oshkosh 2026\, be sure to stop by Booth 3056 to experience how Jet Shades can improve comfort and visibility in the cockpit.
URL:https://jet-shades.com/event/eaa-airventure-oshkosh-2026/
ATTACH;FMTTYPE=image/png:https://jet-shades.com/wp-content/uploads/2026/03/oshkosh-2026-1920x1080-3-1.png
END:VEVENT
END:VCALENDAR