BEGIN:VCALENDAR
VERSION:2.0
PRODID:-//Jet Shades, LLC - ECPv6.15.13//NONSGML v1.0//EN
CALSCALE:GREGORIAN
METHOD:PUBLISH
X-WR-CALNAME:Jet Shades, LLC
X-ORIGINAL-URL:https://jet-shades.com
X-WR-CALDESC:Events for Jet Shades, LLC
REFRESH-INTERVAL;VALUE=DURATION:PT1H
X-Robots-Tag:noindex
X-PUBLISHED-TTL:PT1H
BEGIN:VTIMEZONE
TZID:America/New_York
BEGIN:DAYLIGHT
TZOFFSETFROM:-0500
TZOFFSETTO:-0400
TZNAME:EDT
DTSTART:20220313T070000
END:DAYLIGHT
BEGIN:STANDARD
TZOFFSETFROM:-0400
TZOFFSETTO:-0500
TZNAME:EST
DTSTART:20221106T060000
END:STANDARD
BEGIN:DAYLIGHT
TZOFFSETFROM:-0500
TZOFFSETTO:-0400
TZNAME:EDT
DTSTART:20230312T070000
END:DAYLIGHT
BEGIN:STANDARD
TZOFFSETFROM:-0400
TZOFFSETTO:-0500
TZNAME:EST
DTSTART:20231105T060000
END:STANDARD
BEGIN:DAYLIGHT
TZOFFSETFROM:-0500
TZOFFSETTO:-0400
TZNAME:EDT
DTSTART:20240310T070000
END:DAYLIGHT
BEGIN:STANDARD
TZOFFSETFROM:-0400
TZOFFSETTO:-0500
TZNAME:EST
DTSTART:20241103T060000
END:STANDARD
BEGIN:DAYLIGHT
TZOFFSETFROM:-0500
TZOFFSETTO:-0400
TZNAME:EDT
DTSTART:20250309T070000
END:DAYLIGHT
BEGIN:STANDARD
TZOFFSETFROM:-0400
TZOFFSETTO:-0500
TZNAME:EST
DTSTART:20251102T060000
END:STANDARD
BEGIN:DAYLIGHT
TZOFFSETFROM:-0500
TZOFFSETTO:-0400
TZNAME:EDT
DTSTART:20260308T070000
END:DAYLIGHT
BEGIN:STANDARD
TZOFFSETFROM:-0400
TZOFFSETTO:-0500
TZNAME:EST
DTSTART:20261101T060000
END:STANDARD
BEGIN:DAYLIGHT
TZOFFSETFROM:-0500
TZOFFSETTO:-0400
TZNAME:EDT
DTSTART:20270314T070000
END:DAYLIGHT
BEGIN:STANDARD
TZOFFSETFROM:-0400
TZOFFSETTO:-0500
TZNAME:EST
DTSTART:20271107T060000
END:STANDARD
END:VTIMEZONE
BEGIN:VEVENT
DTSTART;VALUE=DATE:20231017
DTEND;VALUE=DATE:20231020
DTSTAMP:20260425T113313
CREATED:20230131T192456Z
LAST-MODIFIED:20230131T192456Z
UID:28657-1697500800-1697759999@jet-shades.com
SUMMARY:2023 NBAA Business Aviation Convention & Exhibition
DESCRIPTION:We look forward to seeing you October 17-19\, 2023 in Las Vegas for the 2023 NBAA-BACE! Check out our newest Generation 2 Jet Shades for business aviation aircraft\, including helicopters! \nBooth numbers will be assigned closer to the event date. Please check back.
URL:https://jet-shades.com/event/2023-nbaa-business-aviation-convention-exhibition/
END:VEVENT
BEGIN:VEVENT
DTSTART;VALUE=DATE:20240227
DTEND;VALUE=DATE:20240301
DTSTAMP:20260425T113313
CREATED:20240115T212138Z
LAST-MODIFIED:20240227T165410Z
UID:30631-1708992000-1709251199@jet-shades.com
SUMMARY:2024 HAI Heli-Expo
DESCRIPTION:Please join us in Anaheim\, CA for the 2024 HAI HELI-EXPO on February 27-29\, 2024. Stop by our Booth #5029 to see the full lineup of Generation 2 Jet Shades for rotorcraft! \nWe will be offering Expo Specials\, so be sure to stop by and take advantage of the savings!
URL:https://jet-shades.com/event/2024-hai-heli-expo/
ATTACH;FMTTYPE=image/jpeg:https://jet-shades.com/wp-content/uploads/2024/01/hai-heliexpo-1.jpeg
END:VEVENT
BEGIN:VEVENT
DTSTART;VALUE=DATE:20240409
DTEND;VALUE=DATE:20240415
DTSTAMP:20260425T113313
CREATED:20240307T221239Z
LAST-MODIFIED:20240403T165231Z
UID:30876-1712620800-1713139199@jet-shades.com
SUMMARY:SUN 'n FUN Aerospace Expo 2024
DESCRIPTION:We hope to see you April 9-14\, 2024 at the 50th annual SUN ‘n FUN Aerospace Expo in beautiful Lakeland\, FL! \nPlease visit us at Booth #D-049/D-050. \n\nShow Specials\nBe sure to stop by and visit the Jet Shades team during SUN ‘n FUN where you will find some of the lowest prices of the year on many Jet Shades packages. \nGeneration 2 Professional Series Sale\n\n$300 off ALL Gen 2 Pro Series Total Solution packages w/Premium upgrade\n$300 off Citation (all models) or Cessna F406 Cockpit Solution w/Premium upgrade\n$200 off Cockpit Solution w/Premium upgrade for Cessna 441\, Embraer 100/300\, or Eclipse 500/550\n$100 off Cruising Shades (set of 2)\n\nUltra-Thins Sale\n\nCruising Shades Special: Buy any Ultra-Thins Total Aircraft Kit w/Premium Upgrade + a set of 2 Cruising Shades for $1\,899 (a $2\,399 value!)\n$100 off ALL Ultra-Thins Cockpit Kit w/Premium Upgrade\n$200 off all* Ultra-Thins Total Aircraft Kit w/Premium Upgrade *excludes PA-31 Navajo\, Cessna 414/421\n$300 off Ultra-Thins Total Aircraft Kit w/Premium upgrade for Piper PA-31 Navajo\, Cessna 414/421\n\nExperimental Aircraft Sale\n\n$100 off ALL Total Aircraft Kit w/Premium Upgrade for Van’s RV\n\nWindshield Solutions Sale\n\n$100 off ALL Windshield or Windshield/Skylight Solutions w/Premium upgrade
URL:https://jet-shades.com/event/sun-n-fun-aerospace-expo-2024/
ATTACH;FMTTYPE=image/png:https://jet-shades.com/wp-content/uploads/2023/03/SnF_AerospaceExpo_Logo-1.png
END:VEVENT
BEGIN:VEVENT
DTSTART;VALUE=DATE:20240722
DTEND;VALUE=DATE:20240729
DTSTAMP:20260425T113313
CREATED:20240307T223012Z
LAST-MODIFIED:20240307T223418Z
UID:30882-1721606400-1722211199@jet-shades.com
SUMMARY:EAA AirVenture Oshkosh 2024
DESCRIPTION:We hope to see you July 22-28\, 2024 at AirVenture 2024 in Oshkosh\, WI. \nOur team is looking forward to showing off our newest Generation 2 Jet Shades and many new models of Ultra-Thins and Jet Shades for Van’s and other experimental aircraft! \nYou can find us at Booth #4070-4071. \nOur show specials will be some of our best discounts on Jet Shades all year! Be sure to stop by.
URL:https://jet-shades.com/event/eaa-airventure-oshkosh-2024/
END:VEVENT
BEGIN:VEVENT
DTSTART;VALUE=DATE:20240729
DTEND;VALUE=DATE:20240804
DTSTAMP:20260425T113313
CREATED:20240307T221958Z
LAST-MODIFIED:20240307T221958Z
UID:30878-1722211200-1722729599@jet-shades.com
SUMMARY:APSCON 2024
DESCRIPTION:Join us during APSCON 2024 / APSCON Unmanned 2024 in Houston\, TX\, July 29 – August 3\, 2024. Presented by the Airborne Public Safety Association (APSA). \nAPSA will offer some of the best conference courses and classes in the industry and the exhibition floor is a great venue to check out the latest\, cutting-edge technology for public safety aviation. Come check out Jet Shades packages for: \n\nAirbus H125\nBell 407\nBell 429\nBell 505\nRobinson R44 Raven I\nRobinson R44 Raven II\nRobinson 66
URL:https://jet-shades.com/event/apscon-2024/
ATTACH;FMTTYPE=image/png:https://jet-shades.com/wp-content/uploads/2024/03/APSCON24_AU24_Banner.png
END:VEVENT
BEGIN:VEVENT
DTSTART;VALUE=DATE:20240904
DTEND;VALUE=DATE:20240908
DTSTAMP:20260425T113313
CREATED:20240830T171839Z
LAST-MODIFIED:20240903T172716Z
UID:32369-1725408000-1725753599@jet-shades.com
SUMMARY:Citation Jet Pilots 2024 Annual Convention
DESCRIPTION:We hope to see you at the Broadmoor Resort in Colorado Springs\, CO for the CJP 2024 Annual Convention. Please stop by our Booth #8 and take advantage of some of the best prices of the year on Jet Shades for Citation.
URL:https://jet-shades.com/event/citation-jet-pilots-2024-annual-convention/
ATTACH;FMTTYPE=image/png:https://jet-shades.com/wp-content/uploads/2024/08/cjp_logo_dark.png
END:VEVENT
BEGIN:VEVENT
DTSTART;VALUE=DATE:20250311
DTEND;VALUE=DATE:20250314
DTSTAMP:20260425T113313
CREATED:20250108T165506Z
LAST-MODIFIED:20250108T195102Z
UID:32748-1741651200-1741910399@jet-shades.com
SUMMARY:VERTICON 2025 (Formerly HAI HELI-EXPO®)
DESCRIPTION:Join Us at VERTICON 2025!\nJet Shades is excited to be exhibiting at VERTICON 2025\, the world’s largest vertical aviation conference and trade show\, taking place in Dallas\, TX\, from March 10-13\, 2025. Formerly known as HAI HELI-EXPO®\, this event brings together industry leaders and innovators in helicopters\, eVTOLs\, and rotary wing aircraft. Hosted by Vertical Aviation International (VAI)\, VERTICON offers a unique opportunity to network\, learn\, and explore the latest in vertical aviation technologies. \nVisit Us at Booth #11559\nCome visit Booth #11559 to experience firsthand how Jet Shades is revolutionizing helicopter cockpit comfort and protection. Our removable sun shade products are designed to block UV rays\, heat\, and glare\, ensuring a more comfortable and safe flying experience for rotorcraft pilots. We cater to a variety of popular helicopter models\, including Airbus\, Bell\, MD Helicopter\, and Robinson. \nNew Product Launch\nWe’re also thrilled to unveil exciting new products\, including exclusive Jet Shades packages for Leonardo helicopter models. Don’t miss the chance to check out these new solutions designed with pilots in mind. \nMark Your Calendars\nMake sure to stop by our booth at VERTICON 2025 for a firsthand look at how Jet Shades can enhance your flying experience. Whether you’re looking to upgrade your cockpit or discover the newest in sun protection\, we have something special for you.
URL:https://jet-shades.com/event/verticon-2025-formerly-hai-heli-expo/
ATTACH;FMTTYPE=image/png:https://jet-shades.com/wp-content/uploads/2025/01/verticon-booth-2.png
END:VEVENT
BEGIN:VEVENT
DTSTART;VALUE=DATE:20250401
DTEND;VALUE=DATE:20250407
DTSTAMP:20260425T113313
CREATED:20250108T181054Z
LAST-MODIFIED:20250108T181054Z
UID:32752-1743465600-1743983999@jet-shades.com
SUMMARY:SUN 'n FUN Aerospace Expo 2025
DESCRIPTION:Join Us at SUN ‘n FUN Aerospace Expo 2025!\nJet Shades is thrilled to be part of the SUN ‘n FUN Aerospace Expo\, taking place in Lakeland\, FL\, from April 1-6\, 2025. This exciting event is one of the most anticipated in the aviation world\, offering a unique blend of airshows\, educational workshops\, and an incredible display of aircraft\, including over 500 exhibitors showcasing the latest innovations in aviation. \nVisit Us at Booths #49 & #66\nCome visit Jet Shades at Booths #49 & #66 located in Hangar D for an exclusive look at our removable sun shade protective products designed for aviation. We’re excited to meet fellow pilots and aviation enthusiasts\, answer any questions about our products\, and show you how our shades can make your flying experience safer and more comfortable by blocking heat\, UV rays\, and glare. \nSpecial Deals & Sales\nSUN ‘n FUN kicks off the spring and summer flying season\, and we’re celebrating with one of our biggest sales of the year! Be sure to stop by our booth for exclusive event-only deals that you won’t find anywhere else\, in addition to special discounts available on our website. Whether you’re a seasoned pilot or new to aviation\, this is the perfect opportunity to upgrade your cockpit comfort and enjoy fantastic savings. \nDon’t Miss Out!\n\nAirshows: Watch daily performances\, including the thrilling USAF Thunderbirds.\nSpecial Deals: Take advantage of exclusive discounts at our booth.\nMeet the Team: Get to know the Jet Shades team\, and get product demos and answers to all your questions.\n\nSUN ‘n FUN is the perfect event to kick off your flying season\, and we can’t wait to see you there!
URL:https://jet-shades.com/event/sun-n-fun-aerospace-expo-2025/
END:VEVENT
BEGIN:VEVENT
DTSTART;VALUE=DATE:20250716
DTEND;VALUE=DATE:20250719
DTSTAMP:20260425T113313
CREATED:20250108T183440Z
LAST-MODIFIED:20250612T132022Z
UID:32755-1752624000-1752883199@jet-shades.com
SUMMARY:APSCON 2025
DESCRIPTION:Join Us at APSCON 2025!\nJet Shades is excited to announce our participation in APSCON 2025\, taking place in Phoenix\, AZ\, from July 14-18\, 2025. This premier event\, hosted by the Airborne Public Safety Association (APSA)\, brings together the best in manned and unmanned public safety aviation education\, training\, and networking. APSCON 2025 and APSCON Unmanned 2025 will run concurrently\, providing access to cutting-edge products and services in one location\, no matter what type of aircraft you operate. \nVisit Our Booth #1117 to Discover Jet Shades\nJet Shades will be exhibiting our sun shade protective products for helicopters\, with a special focus on public safety applications. Our team will be available to showcase how our products can improve safety during low-altitude flying\, making it more comfortable for those who risk their lives every day in public safety aviation. \nWhy Attend APSCON?\n\nEducation & Training: Learn from the best with industry-leading conference courses and classes.\nNetworking: Connect with peers\, industry experts\, and aviation unit decision-makers.\nExhibits: Explore the latest technology and services for public safety aviation.\n\nThis is a must-attend event for anyone involved in public safety aviation\, and we look forward to meeting you there! \n 
URL:https://jet-shades.com/event/apscon-2025/
ATTACH;FMTTYPE=image/webp:https://jet-shades.com/wp-content/uploads/2025/01/APSCON25_AU25_Banner_Badge_Header.webp
END:VEVENT
BEGIN:VEVENT
DTSTART;VALUE=DATE:20250721
DTEND;VALUE=DATE:20250728
DTSTAMP:20260425T113313
CREATED:20250108T183212Z
LAST-MODIFIED:20250108T201816Z
UID:32758-1753056000-1753660799@jet-shades.com
SUMMARY:EAA AirVenture 2025
DESCRIPTION:Join Us at EAA AirVenture 2025!\nJet Shades is thrilled to be exhibiting at EAA AirVenture 2025\, taking place from July 21-27\, 2025\, at Wittman Regional Airport in Oshkosh\, Wisconsin. Known as the world’s largest gathering of aviation enthusiasts and recreational pilots\, this week-long celebration of aviation features thousands of aircraft\, daily air shows\, workshops\, and activities for everyone—from aviation enthusiasts to those new to the world of flight. \nVisit Us at Booth #3047\nWe’re excited to offer our biggest sale of the year at Booth #3047 located in Hangar C. Take advantage of exclusive event-attendee only discounts on our Jet Shades products! While we have sales on our website\, these special deals are only available to those attending EAA AirVenture. Whether you’re looking for sun protection\, heat relief\, or glare reduction for your cockpit\, this is the perfect time to upgrade your flying experience. \nWhat You Can Expect:\n\nExclusive Discounts: Special deals only for event attendees\, plus our biggest sale of the year.\nProduct Demonstrations: Our team will be on hand to showcase how Jet Shades can improve comfort and safety in your aircraft.\nAnswers to Your Questions: Get all your questions answered by our knowledgeable team\, whether you’re interested in installation or the benefits of Jet Shades.\n\nWhat Else to Look Forward To at EAA AirVenture:\n\nThousands of Aircraft: Explore an incredible range of aircraft\, from vintage planes to ultralights and seaplanes.\nAir Shows & Aerobatics: Watch thrilling performances\, including pyrotechnics and night air shows.\nForums & Workshops: Attend hundreds of forums and workshops on all aspects of aviation.\nKidVenture Zone: A special area for the younger aviation enthusiasts.\n\nWhether you’re a pilot\, a plane enthusiast\, or just looking to experience the best of aviation\, EAA AirVenture is the place to be. Stop by Jet Shades to meet our team\, check out our products\, and get exclusive savings!
URL:https://jet-shades.com/event/eaa-airventure-2025/
ATTACH;FMTTYPE=image/png:https://jet-shades.com/wp-content/uploads/2025/01/osh-booth-3-1.png
END:VEVENT
BEGIN:VEVENT
DTSTART;VALUE=DATE:20251009
DTEND;VALUE=DATE:20251013
DTSTAMP:20260425T113313
CREATED:20251003T165628Z
LAST-MODIFIED:20251003T171021Z
UID:34355-1759968000-1760313599@jet-shades.com
SUMMARY:COPA Migration 2025
DESCRIPTION:Join Jet Shades at COPA Migration 2025\, the premier Cirrus Owners & Pilots Association event. Stop by Booth #209 to experience the latest in cockpit comfort and protection. Our team will be on hand to demonstrate how Jet Shades block heat\, glare\, and 99.9% of harmful UV rays while keeping visibility crystal clear. \nSpecial Event Offers\n\n$200 OFF any Total Solution with Premium Upgrade for Cirrus aircraft\n$100 OFF Cruising Shades (perfect for long flights at altitude)\n\nDon’t miss this chance to upgrade your Cirrus with the most innovative in-flight sun protection trusted by over 6\,000 pilots worldwide. Sale starts October 9th!
URL:https://jet-shades.com/event/copa-migration-2025/
ATTACH;FMTTYPE=image/jpeg:https://jet-shades.com/wp-content/uploads/2025/10/COPA-MIGRATION-2025-1.jpeg
END:VEVENT
BEGIN:VEVENT
DTSTART;VALUE=DATE:20251117
DTEND;VALUE=DATE:20251120
DTSTAMP:20260425T113313
CREATED:20251103T212544Z
LAST-MODIFIED:20251103T215830Z
UID:34468-1763337600-1763596799@jet-shades.com
SUMMARY:NAAA Ag Aviation Expo 2025
DESCRIPTION:Jet Shades is heading to Reno for the 2025 NAAA Ag Aviation Expo\, the industry’s largest gathering of agricultural aviation professionals. Visit Booth #654 to see our new Air Tractor Jet Shades—custom-engineered to reduce glare\, heat\, and UV exposure during long days in the cockpit. \nOur team will be demonstrating how Jet Shades improve comfort\, reduce pilot fatigue\, and protect against harmful UV rays while maintaining excellent visibility. \nShow Special Offers:✨ Exclusive event pricing on Jet Shades for Air Tractor models✨ Learn how Jet Shades can help you fly cooler\, safer\, and longer \nDon’t miss this chance to experience the most advanced cockpit sun protection solution trusted by more than 6\,500 pilots worldwide. \n\nLearn More: \nRead the Press Release
URL:https://jet-shades.com/event/naaa-ag-aviation-expo-2025/
ATTACH;FMTTYPE=image/jpeg:https://jet-shades.com/wp-content/uploads/2025/11/NAAA-EXPO-2025.jpeg
END:VEVENT
BEGIN:VEVENT
DTSTART;VALUE=DATE:20260310
DTEND;VALUE=DATE:20260313
DTSTAMP:20260425T113313
CREATED:20260304T145225Z
LAST-MODIFIED:20260304T163212Z
UID:35010-1773100800-1773359999@jet-shades.com
SUMMARY:Verticon 2026
DESCRIPTION:Jet Shades will be exhibiting at Verticon 2026\, one of the leading global events for the vertical aviation industry. Hosted by Vertical Aviation International (VAI)\, Verticon brings together helicopter operators\, pilots\, manufacturers\, and aviation professionals from around the world. \nVisit Jet Shades at Booth B7836 to learn how our U.S. patented in-flight sun protection system helps helicopter pilots reduce cockpit heat\, glare\, and harmful UV exposure during flight. \nOur team will be on hand to demonstrate Jet Shades products designed for a wide range of rotorcraft models and applications\, including public safety\, utility\, EMS\, and private operations. Stop by to see the product in person\, ask questions\, and discover how Jet Shades can improve cockpit comfort and reduce pilot fatigue during long hours in the air. \nWe look forward to seeing you in Atlanta this March.
URL:https://jet-shades.com/event/verticon-2026/
ATTACH;FMTTYPE=image/png:https://jet-shades.com/wp-content/uploads/2026/03/verticon-2026-1920x1080-1.png
END:VEVENT
BEGIN:VEVENT
DTSTART;VALUE=DATE:20260414
DTEND;VALUE=DATE:20260420
DTSTAMP:20260425T113313
CREATED:20260304T194806Z
LAST-MODIFIED:20260414T130520Z
UID:35015-1776124800-1776643199@jet-shades.com
SUMMARY:SUN 'n FUN Aerospace Expo 2026
DESCRIPTION:Visit Jet Shades at Booths D49 & D66\nJet Shades will be exhibiting at the SUN ’n FUN Aerospace Expo 2026\, one of the largest aviation events in the United States. Held annually at Lakeland Linder International Airport in Lakeland\, Florida\, SUN ’n FUN attracts pilots\, aircraft owners\, aviation businesses\, and enthusiasts from around the world. \nVisit Jet Shades at Booths D49 & D66 to learn how our U.S. patented cockpit sun protection system helps reduce heat\, glare\, and harmful UV exposure while flying. \nAttendees can also take advantage of one of Jet Shades’ biggest sales of the year\, making it the perfect time to upgrade your aircraft’s cockpit comfort and protection just in time for the summer flying season. \n\nSUN ‘n FUN 2026 Sale is Live\nTake 20% off Jet Shades* during SUN ‘n FUN – whether you’re attending in person or online. \nUse Code: SUNFUN20\nOffer valid through April 26\, 2026 only. *Excludes already discounted items. Cannot be combined with any other offer.\n\n\nEvent Details\nEvent: SUN ’n FUN Aerospace Expo 2026Dates: April 14–19\, 2026 Location: Lakeland Linder International AirportLakeland\, Florida \nJet Shades Booths: D49 & D66 \n\nWhat You’ll See at the Jet Shades Booth\nVisitors can: \n\nSee Jet Shades installed on real aircraft\nLearn how Jet Shades reduce cockpit heat and glare\nDiscover how Jet Shades help protect pilots and passengers from UV exposure\nGet answers to aircraft-specific installation questions\n\nOur team will be on hand throughout the event to help pilots determine the best Jet Shades configuration for their aircraft. \n\nAbout SUN ’n FUN Aerospace Expo\nThe SUN ’n FUN Aerospace Expo is a week-long aviation celebration featuring: \n\nDaily airshows\nHundreds of aviation exhibitors\nEducational workshops and forums\nAircraft displays and demonstrations\nActivities for pilots\, builders\, and aviation enthusiasts\n\nThe event is hosted by the SUN ’n FUN Aerospace Center for Excellence\, a nonprofit organization dedicated to aviation education and workforce development. \n\nPlan Your Visit\nIf you’re attending SUN ’n FUN 2026\, be sure to stop by Booths D49 & D66 to see Jet Shades in person and learn how our cockpit sun protection solutions can improve comfort and visibility while flying.
URL:https://jet-shades.com/event/sun-n-fun-aerospace-expo-2026/
ATTACH;FMTTYPE=image/png:https://jet-shades.com/wp-content/uploads/2026/03/sunfun-2026-1920x1080-2.png
END:VEVENT
BEGIN:VEVENT
DTSTART;VALUE=DATE:20260720
DTEND;VALUE=DATE:20260727
DTSTAMP:20260425T113313
CREATED:20260304T202925Z
LAST-MODIFIED:20260304T205501Z
UID:35018-1784505600-1785110399@jet-shades.com
SUMMARY:EAA AirVenture Oshkosh 2026
DESCRIPTION:Visit Jet Shades at Booth 3056\nJet Shades will be exhibiting at EAA AirVenture Oshkosh\, the world’s largest aviation gathering\, held each summer at Wittman Regional Airport in Oshkosh\, Wisconsin.\nThousands of aircraft and aviation enthusiasts travel from around the world to attend this week-long celebration of aviation. If you’re planning to attend\, be sure to stop by the Jet Shades booth to see how our cockpit sun protection solutions help reduce heat\, glare\, and harmful UV exposure while flying. \nVisitors can also take advantage of one of Jet Shades’ biggest sales of the year\, making it the perfect time to upgrade your aircraft’s cockpit comfort and protection before the peak summer flying season. \n\nEvent Details\nEvent: EAA AirVenture OshkoshDates: July 20–26\, 2026 Location: Wittman Regional AirportOshkosh\, Wisconsin \nJet Shades Booth: 3056 \n\nWhat You’ll See at the Jet Shades Booth\nVisitors can: \n\nSee Jet Shades installed on aircraft windows\nLearn how Jet Shades reduce cockpit heat and glare\nDiscover how Jet Shades help protect pilots and passengers from UV exposure\nTake advantage of special show pricing during AirVenture\n\nOur team will be available throughout the week to answer questions and help pilots determine the best Jet Shades configuration for their aircraft. \n\nAbout EAA AirVenture Oshkosh\nHosted by the Experimental Aircraft Association\, AirVenture Oshkosh is the largest aviation gathering in the world. \nThe event features: \n\nThousands of aircraft on display\nDaily airshows and evening programs\nAviation workshops and forums\nHundreds of aviation exhibitors\nAircraft arrivals and departures throughout the week\n\n\nPlan Your Visit\nIf you’re attending AirVenture Oshkosh 2026\, be sure to stop by Booth 3056 to experience how Jet Shades can improve comfort and visibility in the cockpit.
URL:https://jet-shades.com/event/eaa-airventure-oshkosh-2026/
ATTACH;FMTTYPE=image/png:https://jet-shades.com/wp-content/uploads/2026/03/oshkosh-2026-1920x1080-3-1.png
END:VEVENT
END:VCALENDAR