BEGIN:VCALENDAR
VERSION:2.0
PRODID:-//Jet Shades, LLC - ECPv6.15.13//NONSGML v1.0//EN
CALSCALE:GREGORIAN
METHOD:PUBLISH
X-WR-CALNAME:Jet Shades, LLC
X-ORIGINAL-URL:https://jet-shades.com
X-WR-CALDESC:Events for Jet Shades, LLC
REFRESH-INTERVAL;VALUE=DURATION:PT1H
X-Robots-Tag:noindex
X-PUBLISHED-TTL:PT1H
BEGIN:VTIMEZONE
TZID:America/New_York
BEGIN:DAYLIGHT
TZOFFSETFROM:-0500
TZOFFSETTO:-0400
TZNAME:EDT
DTSTART:20170312T070000
END:DAYLIGHT
BEGIN:STANDARD
TZOFFSETFROM:-0400
TZOFFSETTO:-0500
TZNAME:EST
DTSTART:20171105T060000
END:STANDARD
BEGIN:DAYLIGHT
TZOFFSETFROM:-0500
TZOFFSETTO:-0400
TZNAME:EDT
DTSTART:20180311T070000
END:DAYLIGHT
BEGIN:STANDARD
TZOFFSETFROM:-0400
TZOFFSETTO:-0500
TZNAME:EST
DTSTART:20181104T060000
END:STANDARD
BEGIN:DAYLIGHT
TZOFFSETFROM:-0500
TZOFFSETTO:-0400
TZNAME:EDT
DTSTART:20190310T070000
END:DAYLIGHT
BEGIN:STANDARD
TZOFFSETFROM:-0400
TZOFFSETTO:-0500
TZNAME:EST
DTSTART:20191103T060000
END:STANDARD
BEGIN:DAYLIGHT
TZOFFSETFROM:-0500
TZOFFSETTO:-0400
TZNAME:EDT
DTSTART:20200308T070000
END:DAYLIGHT
BEGIN:STANDARD
TZOFFSETFROM:-0400
TZOFFSETTO:-0500
TZNAME:EST
DTSTART:20201101T060000
END:STANDARD
BEGIN:DAYLIGHT
TZOFFSETFROM:-0500
TZOFFSETTO:-0400
TZNAME:EDT
DTSTART:20210314T070000
END:DAYLIGHT
BEGIN:STANDARD
TZOFFSETFROM:-0400
TZOFFSETTO:-0500
TZNAME:EST
DTSTART:20211107T060000
END:STANDARD
BEGIN:DAYLIGHT
TZOFFSETFROM:-0500
TZOFFSETTO:-0400
TZNAME:EDT
DTSTART:20220313T070000
END:DAYLIGHT
BEGIN:STANDARD
TZOFFSETFROM:-0400
TZOFFSETTO:-0500
TZNAME:EST
DTSTART:20221106T060000
END:STANDARD
BEGIN:DAYLIGHT
TZOFFSETFROM:-0500
TZOFFSETTO:-0400
TZNAME:EDT
DTSTART:20230312T070000
END:DAYLIGHT
BEGIN:STANDARD
TZOFFSETFROM:-0400
TZOFFSETTO:-0500
TZNAME:EST
DTSTART:20231105T060000
END:STANDARD
BEGIN:DAYLIGHT
TZOFFSETFROM:-0500
TZOFFSETTO:-0400
TZNAME:EDT
DTSTART:20240310T070000
END:DAYLIGHT
BEGIN:STANDARD
TZOFFSETFROM:-0400
TZOFFSETTO:-0500
TZNAME:EST
DTSTART:20241103T060000
END:STANDARD
END:VTIMEZONE
BEGIN:VEVENT
DTSTART;VALUE=DATE:20230724
DTEND;VALUE=DATE:20230731
DTSTAMP:20260425T094631
CREATED:20230131T192114Z
LAST-MODIFIED:20230131T192114Z
UID:28655-1690156800-1690761599@jet-shades.com
SUMMARY:EAA AirVenture Oshkosh 2023
DESCRIPTION:We hope to see you July 24-30\, 2023 at AirVenture 2023 in Oshkosh\, WI. \nOur team is looking forward to showing off our newest Generation 2 Jet Shades along with many new models of Ultra-Thins and Jet Shades for Van’s and other experimental aircraft! \nYou can find us at Booth #3046-3047. \nOur show specials will be some of our best discounts on Jet Shades all year! Be sure to stop by.
URL:https://jet-shades.com/event/eaa-airventure-oshkosh-2023/
END:VEVENT
BEGIN:VEVENT
DTSTART;VALUE=DATE:20230328
DTEND;VALUE=DATE:20230403
DTSTAMP:20260425T094631
CREATED:20230131T191009Z
LAST-MODIFIED:20230325T194947Z
UID:28649-1679961600-1680479999@jet-shades.com
SUMMARY:SUN 'n FUN Aerospace Expo 2023
DESCRIPTION:  \nWe hope to see you March 28-April 2\, 2023 at the 49th annual SUN ‘n FUN Aerospace Expo in beautiful Lakeland\, FL! \nPlease visit us at Booth #D-48. \nNew for 2023\n\nGeneration 2 Jet Shades\nJet Shades for RV aircraft!\n\n\nShow Specials\n\nJet Shades for Van’s RV – Your choice\, All $699\nUltra-Thins – Save up to $300\nGen 2 Professional Series and select Jet Shades models – Save up to $500\nWindshield Solutions – Save up to $300\nStop by our booth for additional show specials not available on our website\n\nShow specials will be available online from March 26 – April 3\, 2023. Instant savings\, no coupon necessary! No other coupons or discounts can be used on SUN ‘n FUN special-priced items.
URL:https://jet-shades.com/event/sun-n-fun-aerospace-expo-2023/
ATTACH;FMTTYPE=image/png:https://jet-shades.com/wp-content/uploads/2023/03/SnF_AerospaceExpo_Logo-1.png
END:VEVENT
BEGIN:VEVENT
DTSTART;VALUE=DATE:20230307
DTEND;VALUE=DATE:20230310
DTSTAMP:20260425T094631
CREATED:20230131T191547Z
LAST-MODIFIED:20230131T191547Z
UID:28651-1678147200-1678406399@jet-shades.com
SUMMARY:2023 HAI HELI-EXPO
DESCRIPTION:Please join us in Atlanta for the 2023 HAI HELI-EXPO March 7-9\, 2023. Stop by our Booth #4014 to see the full lineup of Generation 2 Jet Shades for rotorcraft! \nWe will be offering Expo Specials\, so be sure to stop by and take advantage of the savings!
URL:https://jet-shades.com/event/2023-hai-heli-expo/
END:VEVENT
BEGIN:VEVENT
DTSTART;VALUE=DATE:20221026
DTEND;VALUE=DATE:20221030
DTSTAMP:20260425T094631
CREATED:20220617T145913Z
LAST-MODIFIED:20221019T135801Z
UID:26641-1666742400-1667087999@jet-shades.com
SUMMARY:2022 Citation Jet Pilots Annual Convention
DESCRIPTION:We can’t wait to see you in Austin\, TX\, October 26-29\, 2022 at the CJP Annual Convention. We will be at booth #2955. Be sure to stop by and say hello!
URL:https://jet-shades.com/event/2022-citation-jet-pilots-annual-convention/
END:VEVENT
BEGIN:VEVENT
DTSTART;VALUE=DATE:20221007
DTEND;VALUE=DATE:20221010
DTSTAMP:20260425T094631
CREATED:20220617T145243Z
LAST-MODIFIED:20221005T153408Z
UID:26637-1665100800-1665359999@jet-shades.com
SUMMARY:COPA North American Migration 2022
DESCRIPTION:Calling all Cirrus pilots! Please stop by our booth #205 during COPA 2022 in beautiful Amelia Island\, FL\, October 7-9\, 2022. \nIt’s a great opportunity to check out our new Ultra-Thins product for Cirrus SR20/22\, and to pick up a set for your aircraft at a special price only available during the migration. \nCOPA Migration SALE\nFrom October 7-9\, 2022 only\, you can save up to $300 on the following Jet Shades products for Cirrus: \nUltra-Thins for Cirrus\n \nCirrus SR20/22/22T G1\, G2 Precut Total Aircraft Ultra-Thins Kit – Sale $1\,499 (SAVE $300) \nCirrus SR20/22/22T G3\, G5\, G6 Precut Total Aircraft Ultra-Thins Kit – Sale $1\,499 (SAVE $300) \nCirrus SR20/22/22T G1\, G2 Precut Cockpit Ultra-Thins Kit – Sale $999 (SAVE $200) \nCirrus SR20/22/22T G3\, G5\, G6 Precut Cockpit Ultra-Thins Kit – Sale $999 (SAVE $200) \nWindShield Solutions\n \nCirrus G1-G6 Windshield Solution – Sale $329 (SAVE $100)\n 
URL:https://jet-shades.com/event/copa-north-american-migration-2022/
END:VEVENT
BEGIN:VEVENT
DTSTART;VALUE=DATE:20220929
DTEND;VALUE=DATE:20221003
DTSTAMP:20260425T094631
CREATED:20220617T144658Z
LAST-MODIFIED:20220617T144658Z
UID:26635-1664409600-1664755199@jet-shades.com
SUMMARY:MMOPA 2022
DESCRIPTION:We hope to see you at the Malibu M-Class Owners & Pilots Association (MMOPA) convention in Tuscon\, September 29 – October 2\, 2022. Please check back for our number. We’d love to meet you!
URL:https://jet-shades.com/event/mmopa-2022/
END:VEVENT
BEGIN:VEVENT
DTSTART;VALUE=DATE:20220922
DTEND;VALUE=DATE:20220926
DTSTAMP:20260425T094631
CREATED:20220617T144053Z
LAST-MODIFIED:20220919T154909Z
UID:26633-1663804800-1664150399@jet-shades.com
SUMMARY:American Bonanza Society Convention & Tradeshow
DESCRIPTION:We hope to see you in Wichita\, KS at the ABS Convention & Tradeshow\, September 22-25\, 2022! You’ll find us in the Expo Hall where you can check out our brand new Ultra-Thins for Bonanza aircraft and scoop up a fantastic deal on a set for your aircraft! \nOur Beechcraft Sale is Going on Now! No coupon is necessary. The cart will reflect the sale price. HURRY\, this sale ends September 25\, 2022.  \nWindshield Solutions – Save $100\n \nBaron 55 Windshield Solution \nBaron 58 Windshield Solution \nBonanza 35 Windshield Solution \nBonanza 36 Windshield Solution \nUltra-Thins – Save up to $300\n \nBaron 58 / Bonanza 36 Ultra-Thins Cockpit Kit w/Premium \nBaron 58 / Bonanza 36 Ultra-Thins Total Aircraft Kit w/Premium
URL:https://jet-shades.com/event/american-bonanza-society-convention-tradeshow/
END:VEVENT
BEGIN:VEVENT
DTSTART;VALUE=DATE:20220727
DTEND;VALUE=DATE:20220730
DTSTAMP:20260425T094631
CREATED:20220617T143431Z
LAST-MODIFIED:20220617T143431Z
UID:26631-1658880000-1659139199@jet-shades.com
SUMMARY:APSCON 2022 Annual Conference & Exposition
DESCRIPTION:Join us at Booth #625 during APSCON 2022 / APSCON Unmanned 2022 in Reno\, NV\, July 25 – 30\, 2022! Presented by the Airborne Public Safety Association (APSA). \nAPSA will offer some of the best conference courses and classes in the industry and the exhibition floor is a great venue to check out the latest\, cutting-edge technology for public safety aviation. Come check out Jet Shades Windshield Solutions and Total Solutions for: \n\nAirbus H125\nBell 407\nBell 429\nBell 505\nRobinson R44 Raven I\nRobinson R44 Raven II\nRobinson 66
URL:https://jet-shades.com/event/apscon-2022-annual-conference-exposition/
END:VEVENT
BEGIN:VEVENT
DTSTART;VALUE=DATE:20220725
DTEND;VALUE=DATE:20220801
DTSTAMP:20260425T094631
CREATED:20220117T190832Z
LAST-MODIFIED:20220725T141355Z
UID:24895-1658707200-1659311999@jet-shades.com
SUMMARY:EAA AirVenture OshKosh 2022
DESCRIPTION:We hope you will join us at one of aviation’s favorite weeks of the year: EAA AirVenture OshKosh 2022! Stop by the Jet Shades Booth #3046\, meet the team and get your OshKosh discount on Jet Shades products.  \nWe are making most of our OSH show specials available online for the first time!  From now until July 31\, 2022\, at 11:59 PM EDT\, save big on the following products: \nUltra-Thins (Save up to $300)\n\nCessna 172 Ultra-Thins Heat Blocker Package\nCirrus SR20/22 Ultra-Thins Total Aircraft Kit w/Premium\nBaron 58 / Bonanza 36 Ultra-Thins Total Aircraft Kit w/Premium\nPiper PA32 Cherokee Six Ultra-Thins Total Aircraft Kit w/Premium\nPiper PA32 Saratoga Ultra-Thins Total Aircraft Kit w/Premium\nPiper PA61 Aerostar 601 Ultra-Thins Cockpit Kit w/Premium\n\n\nWindshield Solutions\n\nALL piston aircraft Windshield Solutions\, only $229!\nRobinson Helicopter R44 or R66 Windshield + Skylight Solution\, only $399!\nBell 407\, 429 or 505 Windshield Solution w/Premium\, only $599\nNEW PRODUCT! Airbus H125 AStar 350 Windshield + Skylight Solution\, save $300!\n\n\nCockpit Solution w/Premium Sale (Save up to $300)\n\n$200 Off Piper Meridian\, 500/600 \n$300 Off Citation\, King Air\, Pilatus\, TBM\n\n\nTotal Solution w/Premium Sale (Save up to $600)\n\n$400 Off Piper Meridian\, 500/600\n$500 Off King Air\, Pilatus\, TBM\n$600 Off Robinson R44 or R66\nNEW PRODUCT! $400 Off Airbus H125 AStar 350 (high visibility or premium)\n\n\nBe sure to stop by our Booth #3046 to check out new Ultra-Thins products for Van’s Aircraft and Diamond DA40! \n\n*Note: No other coupon or discount can be redeemed with these sale prices. Sale prices are automatically added to the cart. No coupon is necessary. This sale ends July 31\, 2022 at 11:59 PM EDT\, no exceptions.
URL:https://jet-shades.com/event/eaa-airventure-oshkosh-2022/
END:VEVENT
BEGIN:VEVENT
DTSTART;VALUE=DATE:20220405
DTEND;VALUE=DATE:20220411
DTSTAMP:20260425T094631
CREATED:20220117T190345Z
LAST-MODIFIED:20220404T011835Z
UID:24893-1649116800-1649635199@jet-shades.com
SUMMARY:Sun n Fun Aerospace Expo 2022
DESCRIPTION:Get ready to see the latest in aviation products\, aircraft and services in sunny Lakeland\, FL this April 5-10. \nStop by Booth #D-48 and score some great discounts on Jet Shades products that will only be available for in-person attendees! We hope to see you at Sun n Fun! \nAnd – be the first to see our brand new product line we’ll be unveiling at Sun ‘n Fun: Ultra-Thins by Jet Shades! \nWe will have a VERY LIMITED SUPPLY so visit our booth early to avoid disappointment. \nHere’s a sneak peek of some of the Sun ‘n Fun savings you can enjoy:
URL:https://jet-shades.com/event/sun-n-fun-aerospace-expo-2022/
END:VEVENT
BEGIN:VEVENT
DTSTART;VALUE=DATE:20220308
DTEND;VALUE=DATE:20220311
DTSTAMP:20260425T094631
CREATED:20220117T185201Z
LAST-MODIFIED:20220213T180252Z
UID:24890-1646697600-1646956799@jet-shades.com
SUMMARY:HAI Heli-Expo
DESCRIPTION:This is the world’s largest helicopter expo this March 8-10 in Dallas\, TX! \nBe sure to stop by our booth #8602 and see Jet Shades for Robinson helicopters.  \nCheck out the show specials available for all in-person attendees: \n\n\nSave $150 on Jet Shades Windshield + Skylight Solutions for Robinson R44 Raven 1\, R44 Raven 2 or R66\nSave $300 on Jet Shades Cockpit + Cabin Total Solution for Robinson R44 Raven 1\, R44 Raven 2 or R66\nSave $500 on Jet Shades Cockpit + Cabin Total Solution w/Premium Upgrade for Robinson R44 Raven 1\, R44 Raven 2 or R66\n\nShow specials are only available for HAI Heli-Expo attendees! Purchase in person at Booth #8602 or pick up a show special flyer at our booth to order online.
URL:https://jet-shades.com/event/hai-heli-expo/
ATTACH;FMTTYPE=image/jpeg:https://jet-shades.com/wp-content/uploads/2022/01/hai-heli-expo-High-Quality.jpg
END:VEVENT
BEGIN:VEVENT
DTSTART;VALUE=DATE:20220303
DTEND;VALUE=DATE:20220305
DTSTAMP:20260425T094631
CREATED:20211223T154159Z
LAST-MODIFIED:20220225T163722Z
UID:24775-1646265600-1646438399@jet-shades.com
SUMMARY:PB Expo
DESCRIPTION:Visit Jet Shades at Booth #151 at PB Expo – The world’s largest technology show for the aviation marketplace! \n  \nMiami Beach Convention Center\nMiami\, FL\nMarch 3-4\, 2022 \n  \nAdmission is FREE. Register on the PB Expo website using the link below. \nPlease stop by so you can see how Jet Shades will work in your aircraft. Plus\, we’ll have show specials for event attendees that you can only receive in person!
URL:https://jet-shades.com/event/pb-expo/
ATTACH;FMTTYPE=image/jpeg:https://jet-shades.com/wp-content/uploads/2021/12/PBExpo-High-Quality-2.jpg
END:VEVENT
BEGIN:VEVENT
DTSTART;VALUE=DATE:20211020
DTEND;VALUE=DATE:20211024
DTSTAMP:20260425T094631
CREATED:20210920T190920Z
LAST-MODIFIED:20210920T190920Z
UID:24092-1634688000-1635033599@jet-shades.com
SUMMARY:Citation Jet Pilots 2021 Annual Convention
DESCRIPTION:We hope to see you at the Citation Jet Pilots 2021 Annual Convention on October 20-23\, 2021.
URL:https://jet-shades.com/event/citation-jet-pilots-2021-annual-convention/
ATTACH;FMTTYPE=image/jpeg:https://jet-shades.com/wp-content/uploads/2021/09/citation-convention-2021-High-Quality.jpg
END:VEVENT
BEGIN:VEVENT
DTSTART;VALUE=DATE:20211012
DTEND;VALUE=DATE:20211015
DTSTAMP:20260425T094631
CREATED:20210920T175632Z
LAST-MODIFIED:20210920T175632Z
UID:24086-1633996800-1634255999@jet-shades.com
SUMMARY:NBAA Business Aviation Convention & Exhibition
DESCRIPTION:We hope to see you at the 2021 NBAA Business Aviation Convention & Exhibition in Las Vegas on October 12-14\, 2021. Please stop by our Booth #2955 and see how Jet Shades solves the problem of hot\, uncomfortable flights.
URL:https://jet-shades.com/event/nbaa-business-aviation-convention-exhibition-2021/
ATTACH;FMTTYPE=image/jpeg:https://jet-shades.com/wp-content/uploads/2021/09/Copy-of-mmopa-sep2021-1200x628-High-Quality-2.jpg
END:VEVENT
BEGIN:VEVENT
DTSTART;VALUE=DATE:20210929
DTEND;VALUE=DATE:20211004
DTSTAMP:20260425T094631
CREATED:20210827T205828Z
LAST-MODIFIED:20210827T210302Z
UID:23945-1632873600-1633305599@jet-shades.com
SUMMARY:Eclipse Jet Owners and Pilots Association 2021 Convention
DESCRIPTION:Calling all Eclipse Jet owners! We hope to see you at EJOPA 2021 Convention at The Greenbrier Resort in White Sulphur Springs\, WV September 29 – October 3\, 2021.
URL:https://jet-shades.com/event/eclipse-jet-owners-and-pilots-association-2021/
ATTACH;FMTTYPE=image/jpeg:https://jet-shades.com/wp-content/uploads/2021/08/ejopa-sep2021-1200x628-High-Quality-2.jpg
END:VEVENT
BEGIN:VEVENT
DTSTART;VALUE=DATE:20210923
DTEND;VALUE=DATE:20210927
DTSTAMP:20260425T094631
CREATED:20210827T195958Z
LAST-MODIFIED:20210923T211347Z
UID:23942-1632355200-1632700799@jet-shades.com
SUMMARY:COPA 2021 Annual Migration Fly In & Tradeshow
DESCRIPTION:We hope to see you at Booth #206 during the COPA Migration 2021! See how Jet Shades can elevate pilot and passenger comfort in your Cirrus\, while protecting you from dangerous UV radiation.
URL:https://jet-shades.com/event/copa-2021-annual-migration-fly-in-tradeshow/
ATTACH;FMTTYPE=image/jpeg:https://jet-shades.com/wp-content/uploads/2021/08/copa-sep2021-1200x628-High-Quality.jpg
END:VEVENT
BEGIN:VEVENT
DTSTART;VALUE=DATE:20210922
DTEND;VALUE=DATE:20210927
DTSTAMP:20260425T094631
CREATED:20210827T185315Z
LAST-MODIFIED:20210827T210350Z
UID:23931-1632268800-1632700799@jet-shades.com
SUMMARY:TBMOPA 2021 Annual Convention
DESCRIPTION:Please join us at the TBMOPA 2021 Annual Convention at The Greenbrier in White Sulphur Springs\, WV. See how Jet Shades can elevate cockpit and cabin comfort in your TBM.
URL:https://jet-shades.com/event/tbmopa-2021-annual-convention/
ATTACH;FMTTYPE=image/jpeg:https://jet-shades.com/wp-content/uploads/2021/08/tbmopa-2021-1200x628-High-Quality.jpg
END:VEVENT
BEGIN:VEVENT
DTSTART;VALUE=DATE:20210901
DTEND;VALUE=DATE:20210905
DTSTAMP:20260425T094631
CREATED:20210827T174142Z
LAST-MODIFIED:20210827T174142Z
UID:23924-1630454400-1630799999@jet-shades.com
SUMMARY:2021 MMOPA Convention and Fly In
DESCRIPTION:Join us September 1-4 at the JW Marriott in Nashville\, TN for the 2021 MMOPA Convention! We are so excited for this year’s convention and we hope you stop by Booth #8.
URL:https://jet-shades.com/event/2021-mmopa-convention-and-fly-in/
ATTACH;FMTTYPE=image/jpeg:https://jet-shades.com/wp-content/uploads/2021/08/mmopa-sep2021-1200x628-High-Quality.jpg
END:VEVENT
BEGIN:VEVENT
DTSTART;TZID=America/New_York:20210827T090000
DTEND;TZID=America/New_York:20210827T160000
DTSTAMP:20260425T094631
CREATED:20210803T193155Z
LAST-MODIFIED:20210823T144042Z
UID:23565-1630054800-1630080000@jet-shades.com
SUMMARY:AOPA Aviator Showcase
DESCRIPTION:Coming to Aviator Showcase? Stop by the Jet Shades Booth #13 located in the Exhibition Hall and see how Jet Shades can cool your cockpit and make flying more fun! Check out our show specials below.  \n\nAOPA Aviator Showcase Specials\n\nSAVE $130 ON WINDSHIELD SOLUTIONS\nFly home with your Jet Shades Windshield Solution! We will have a limited quantity of the following Jet Shades Windshield Solutions available at AOPA Aviator Showcase. \nChoose from: \n\nBaron 55\nBaron 58\nBonanza 35\nBonanza 36\nCessna 172\nCessna 182 | 206 | 210\nCirrus SR20/22/22T\nRobinson R66\nRobinson R44 Raven I\nRobinson R44 Raven II\n\nUse code AOPA27 during checkout. Offer expires 8/31/2021. \nPurchases must be made by 8/22/2021 for AOPA pickup. Note: Pre-order is no longer available for AOPA pickup. \n\n\nUP TO $200 OFF PREMIUM SOLUTIONS\, PLUS FREE SHIPPING!\n\nSave $100\, Plus FREE SHIPPING* on any Cockpit Solution w/Premium Upgrade. To redeem this offer\, use code CPREMIUM100 during checkout.\nSave $200\, Plus FREE SHIPPING* on any Cockpit+Cabin Total Solution w/Premium Upgrade. To redeem this offer\, use code TPREMIUM200 during checkout.\n\nHurry\, the offer expires 8/31/2021. *Free shipping in US only. \nShop Now
URL:https://jet-shades.com/event/aopa-aviator-showcase/
ATTACH;FMTTYPE=image/jpeg:https://jet-shades.com/wp-content/uploads/2021/08/aviator-showcase-event-High-Quality-2.jpg
END:VEVENT
BEGIN:VEVENT
DTSTART;VALUE=DATE:20210726
DTEND;VALUE=DATE:20210802
DTSTAMP:20260425T094631
CREATED:20210616T144014Z
LAST-MODIFIED:20210715T195234Z
UID:23049-1627257600-1627862399@jet-shades.com
SUMMARY:EAA AirVenture 2021
DESCRIPTION:Jet Shades will be at EAA AirVenture 2021! Please stop by and visit us at Booth #3046. We’d love to see you! \n\nYou can also enjoy our Oshkosh promotion right now! For a limited time\, purchase any Jet Shades Cockpit Solution or Total (Cockpit + Cabin) Solution with Premium upgrade and save up to $200\, PLUS Free Shipping! Coupon codes and offer details are listed below. \n\nUse code CPREMIUM100 and receive $100 Off Cockpit Solutions with Premium upgrade\nUse code TPREMIUM200 and receive $200 Off Total (Cockpit + Cabin) Solutions with Premium upgrade\n\nOne coupon per person / Cannot be combined with any other offer \nShop All Products \n\n 
URL:https://jet-shades.com/event/eaa-airventure-2021/
ATTACH;FMTTYPE=image/png:https://jet-shades.com/wp-content/uploads/2021/06/2021-AirVenture-booth-numbers1.png
END:VEVENT
BEGIN:VEVENT
DTSTART;VALUE=DATE:20191022
DTEND;VALUE=DATE:20191025
DTSTAMP:20260425T094631
CREATED:20190513T162332Z
LAST-MODIFIED:20190513T162332Z
UID:5590-1571702400-1571961599@jet-shades.com
SUMMARY:2019 NBAA Business Aviation Convention & Exhibition (NBAA-BACE)
DESCRIPTION:The Jet Shades team will be exhibiting at Booth #C7022. Stop by to learn more about how Jet Shades protect pilots and passengers from harmful UV\, heat and glare while flying!
URL:https://jet-shades.com/event/2019-nbaa-business-aviation-convention-exhibition-nbaa-bace/
LOCATION:Las Vegas Convention Center\, 3150 Paradise Rd\, Las Vegas\, NV\, 89109\, United States
ATTACH;FMTTYPE=image/jpeg:https://jet-shades.com/wp-content/uploads/2019/05/2018-NBAA-BACE-Promo-1240x620.jpg
END:VEVENT
BEGIN:VEVENT
DTSTART;VALUE=DATE:20191017
DTEND;VALUE=DATE:20191021
DTSTAMP:20260425T094631
CREATED:20190513T134035Z
LAST-MODIFIED:20190513T134035Z
UID:5580-1571270400-1571615999@jet-shades.com
SUMMARY:COPA 2019 M17 Cirrus Owners & Pilots Association Migration\, Fly-In & Expo
DESCRIPTION:Stop by the Jet Shades booth (number coming soon!) and see firsthand how pilot and passenger comfort are greatly enhanced with the Jet Shades Total Solution and Cockpit Solution. Also\, check out our premium upgrade for max heat and glare protection.
URL:https://jet-shades.com/event/copa-2019-m17-cirrus-owners-pilots-association-migration-fly-in-expo/
ATTACH;FMTTYPE=image/png:https://jet-shades.com/wp-content/uploads/2019/05/COPAM17Reg.png
END:VEVENT
BEGIN:VEVENT
DTSTART;VALUE=DATE:20190722
DTEND;VALUE=DATE:20190729
DTSTAMP:20260425T094631
CREATED:20181210T154759Z
LAST-MODIFIED:20181210T154759Z
UID:2992-1563753600-1564358399@jet-shades.com
SUMMARY:EAA Airventure Osh Kosh 2019
DESCRIPTION:Join the Jet Shades team at EAA Airventure Osh Kosh! \nWe will be at Booth 2123 in Hangar B. View floorplan here. \nPurchase tickets here.
URL:https://jet-shades.com/event/eaa-airventure-osh-kosh-2019/
ATTACH;FMTTYPE=image/jpeg:https://jet-shades.com/wp-content/uploads/2018/12/eaa-2019.jpg
END:VEVENT
BEGIN:VEVENT
DTSTART;VALUE=DATE:20190606
DTEND;VALUE=DATE:20190609
DTSTAMP:20260425T094631
CREATED:20190513T133329Z
LAST-MODIFIED:20190613T182103Z
UID:5576-1559779200-1560038399@jet-shades.com
SUMMARY:POPA Annual Convention
DESCRIPTION:Come visit the Jet Shades team at booth #404 at this year’s POPA convention.
URL:https://jet-shades.com/event/popa-annual-convention/
LOCATION:Terranea Resort\, 100 Terranea Way\, Rancho Palos Verdes\, CA\, 90275\, United States
ATTACH;FMTTYPE=image/png:https://jet-shades.com/wp-content/uploads/2019/05/popa-logo.png
END:VEVENT
BEGIN:VEVENT
DTSTART;VALUE=DATE:20190525
DTEND;VALUE=DATE:20190603
DTSTAMP:20260425T094631
CREATED:20190513T132753Z
LAST-MODIFIED:20190513T132753Z
UID:5572-1558742400-1559519999@jet-shades.com
SUMMARY:MMOPA 2019 Convention
DESCRIPTION:Come visit the Jet Shades team at MMOPA 2019.
URL:https://jet-shades.com/event/mmopa-2019-convention/
LOCATION:Ritz Carlton Amelia Island\, 4750 Amelia Island Parkway\, Amelia Island\, FL\, 32034\, United States
ATTACH;FMTTYPE=image/png:https://jet-shades.com/wp-content/uploads/2019/05/2018-MMOPA-Logo-extra-small.png
END:VEVENT
BEGIN:VEVENT
DTSTART;VALUE=DATE:20190402
DTEND;VALUE=DATE:20190408
DTSTAMP:20260425T094631
CREATED:20181217T145952Z
LAST-MODIFIED:20190313T111554Z
UID:3084-1554163200-1554681599@jet-shades.com
SUMMARY:Sun 'n Fun International Fly-In & Expo
DESCRIPTION:Get Custom-Made Jet Shades from our Authorized Dealers during Sun ‘n Fun and have a cool\, comfortable flight home!\nMany Aircraft such as Barons\, Bonanzas\, Piper\, Cessna\, and other aircraft that are not available as a stock Jet Shade and must be custom fitted to your aircraft. We have teamed up with our Dealer in Lakeland to have them fabricate and custom fit Jet Shades to just about any aircraft and with special offers! \n\nEXPO DEAL\nCustom-Made Jet Shades + Installation During Sun ‘n Fun\nFixed Wing Aviation on the field in Lakeland\, Florida will provide flat rate pricing on Jet Shades installation as well as up to $500 off of Premium Jet Shades! To get an idea of the saving and value\, it cost about $3\,300 – $3\,500 to outfit Baron or Bonanza with Tinted Acrylic inserts\, and these do not protect the pilot. For a complete set of Jet Shades installed\, including the cockpit\, should be installed for less than $2\,200! Upgrade to Premium for an additional $200 (Regular upgrade price $700). See Our Specs on Standard High visibility Jet Shades and premium Jet Shades here. \nYou will need to make an appointment to take advantage of this offer.  Please call David at Fixed Wing Aviation (Lakeland) | Ph: 813-621-7476 to make an appointment today as slots are filling up. \nOther Jet Shades dealers in Florida are: \n\nBaker Aviation – KEVB | Ph: 386-837-4073 | Contact Curtis Boulware for more information.\nSun Aviation – KVBR – Vero Beach | Ph: 772-562-9257\nSarasota Avionics – KTPF – Tampa | Ph: 941-484-9410 | Contact Nicole\n\nCheck out these Custom Jet Shades installations: \nBonanza A36 with Custom Fit Jet Shades\nBonanza B55 with Custom Fit Jet Shades\n\n\nMore Expo deals coming soon! Please check back. \n\nVisit the Jet Shades team at Booths D48 & 49 during the expo. Learn how to get cool comfortable flights with solar protection in the cockpit with Jet Shades! We will have live demonstrations on how Jet Shades work and are happy to answer any of your questions! \n\n High Visibility and Premium Jet Shades Comparison \n\n                \n                \n                            \n                            \n                            \n                    \n            \n    \n    \n    \n\n\n\n 
URL:https://jet-shades.com/event/sun-n-fun-international-fly-in-expo/
ATTACH;FMTTYPE=image/png:https://jet-shades.com/wp-content/uploads/2019/03/sun-n-fun-banner-logo.png
END:VEVENT
BEGIN:VEVENT
DTSTART;VALUE=DATE:20190206
DTEND;VALUE=DATE:20190207
DTSTAMP:20260425T094631
CREATED:20181210T143245Z
LAST-MODIFIED:20181210T143245Z
UID:2979-1549411200-1549497599@jet-shades.com
SUMMARY:2019 NBAA West Palm Beach Regional Forum
DESCRIPTION:Join the Jet Shades team at 2019 NBAA West Palm Beach Regional Forum! \nWe will be at Booth #426. \nView our booth on the floor plan. \nRegister here.
URL:https://jet-shades.com/event/2019-nbaa-west-palm-beach-regional-forum/
ATTACH;FMTTYPE=image/jpeg:https://jet-shades.com/wp-content/uploads/2018/12/nbaa-palm-beach.jpeg
END:VEVENT
BEGIN:VEVENT
DTSTART;VALUE=DATE:20181024
DTEND;VALUE=DATE:20181029
DTSTAMP:20260425T094631
CREATED:20181010T141913Z
LAST-MODIFIED:20181010T141913Z
UID:2467-1540339200-1540771199@jet-shades.com
SUMMARY:Citation Jet Pilots 2018 Convention
DESCRIPTION:
URL:https://jet-shades.com/event/citation-jet-pilots-2018-convention/
LOCATION:Hyatt Regency Hill Country Resort and Spa\, 9800 Hyatt Resort Dr\, San Antonio\, TX\, United States
ATTACH;FMTTYPE=image/png:https://jet-shades.com/wp-content/uploads/2018/10/cjp_logo.png
END:VEVENT
BEGIN:VEVENT
DTSTART;VALUE=DATE:20181016
DTEND;VALUE=DATE:20181019
DTSTAMP:20260425T094631
CREATED:20180705T173107Z
LAST-MODIFIED:20180706T133044Z
UID:2161-1539648000-1539907199@jet-shades.com
SUMMARY:NBAA Business Aviation Convention & Exhibition
DESCRIPTION:Join over 25\,000 industry professionals for the most important three days of business aviation. Ranked as the third largest trade show in the United States\, the NBAA Business Aviation Convention & Exhibition (NBAA-BACE) will be held Oct. 16–18\, 2018\, in Orlando\, Florida\, bringing together current and prospective aircraft owners\, manufacturers and customers into one meeting place to get critical work accomplished. \nCome visit us at Booth #3294. \nFloor plan \n 
URL:https://jet-shades.com/event/nbaa-business-aviation-convention-exhibition/
LOCATION:Orange County Convention Center\, 9800 International Drive\, Orlando\, FL\, 32819\, United States
ATTACH;FMTTYPE=image/jpeg:https://jet-shades.com/wp-content/uploads/2018/07/NBAA2018-large-promo.jpg
END:VEVENT
BEGIN:VEVENT
DTSTART;VALUE=DATE:20181011
DTEND;VALUE=DATE:20181013
DTSTAMP:20260425T094631
CREATED:20181010T141409Z
LAST-MODIFIED:20181010T142051Z
UID:2463-1539216000-1539388799@jet-shades.com
SUMMARY:Cirrus Owners & Pilots Association Migration\, Fly-In & Expo
DESCRIPTION:Each year\, hundreds of Cirrus aircraft fly in to attend COPA’s largest annual event & Migration! This year we’ll again be gathering in Las Vegas\, Nevada. Attendees can expect educational seminars\, an exhibitor’s trade show highlighting aviation products and services and socializing with other Cirrus pilots who share their passion for flying Cirrus aircraft! \nStop by our Booth #58 and meet the Jet Shades team. Special event discount available!
URL:https://jet-shades.com/event/cirrus-owners-pilots-association-migration-fly-in-expo/
LOCATION:Green Valley Resort & Spa\, 2300 Paseo Verde Pkwy\, henderson\, NV\, United States
ATTACH;FMTTYPE=image/png:https://jet-shades.com/wp-content/uploads/2018/10/copa.png
END:VEVENT
END:VCALENDAR